Workbook

Sheet 報告書
C2: 第４号様式（第８関係）
D3: （表）
D4: 令和８年度青森県介護支援専門員研修受講支援事業完了（廃止）実績報告書
R6: 報告日
C7: 青 森 県 知 事 殿
S8: 住所
Q9: 補助事業者 | S9: 法人名
S10: 代表者氏名
C12: 青森県介護支援専門員研修受講支援事業費補助金交付要綱第８の規定により、関係書類を添えて報告します。
C15: 補助事業に要した経費(a) ※別紙精算書により算出された補助所要額の合計と同額になります。 | Q15: =別紙１!O26 -> 0 | AB15: 円
C16: 補助金交付決定額(b) | Q16: =別紙１!P26 -> 0 | AB16: 円
C17: 補助金額（aとbを比較して少ない方の額） | Q17: =別紙１!Q26 -> 0 | AB17: 円
D18: ＜誓約書＞
D19: 私は、下記の事項について誓約します。
D20: （確認した場合は右側チェックボックスをクリックして✔を付けてください。）
E22: １．実績報告内容に虚偽はありません。
E23: ２．この実績報告に係る受講料について、研修受講者、補助対象者及び補助対象事業所は、青森県以外の
E24: 自治体等から補助を受けておらず、また、受ける予定はありません。（教育訓練給付金を除く）
E25: ３．研修受講者は令和８年度補助対象研修を修了しています。
E26: ４．研修受講者はケアプラン作成を行う介護支援専門員又は主任介護支援専門員として、
E27: 補助対象事業所に補助対象研修最終日から３か月以上の期間継続して就業しています。
E28: ５．研修受講者は就業先である補助対象事業所の運営法人等に直接雇用されています。
E29: ６．補助対象者は研修実施機関又は研修受講者へ受講料の支払を完了しています。
E30: ７．補助金の交付後に、交付要件に該当しない事実や不正が発覚した場合は、補助金を返還します。
P33: 担当部署
P34: 担当者
P35: メールアドレス
C36: （添付書類等については、裏面を参照してください。）
D38: （裏）
D39: ・・・このセルは自動計算セルとなる。
D40: ・・・このセルはプルダウンから選択するセルとなる。
B42: ［添付書類］ （１）精算書（第４号様式の別紙１） （２）補助対象研修の修了を証明できる書類の写し （３）証明書（第４号様式の別紙２）及び振込明細書等の写し （４）第３条第２項に規定する教育訓練給付金制度の補助を受けている場合にあっては、当該補助に係る額を確認できる書類 （５）その他知事が必要と認める書類

Sheet 別紙１
A1: 第４号様式の別紙１（第８関係）
A2: 令和８年度青森県介護支援専門員研修受講支援事業費補助金精算額調書
I4: 法人名 | K4: =報告書!U9 -> 0
A7: 研修受講者及び受講料負担額一覧
A9: 研修 課程 | C9: 補助対象事業所名 | D9: 研修受講者 氏名 | E9: 雇用形態 （常勤又は 非常勤） | F9: 研修最終日 (年月日） | G9: 受講料（円） ※１ | H9: 訓練給付金（円） ※２ | I9: 事業者支払日 （年月日） ※３ | J9: 補助対象経費支出額 （円） ※４ | K9: 補助基準額 （円） ※５ | L9: ＣとＤを比較して少ない方の額 （円） | M9: 総事業費から寄附金等を控除した額 （円） | N9: 選定額 （ＥとＦを比較して少ない方の額） （円） | O9: 補助所要額 （千円未満切り捨て） （円） | P9: 交付決定額 （円） | Q9: 補助金額 （ＨとＩを比較して少ない方の額） （円）
G10: Ａ | H10: Ｂ | J10: Ｃ | K10: Ｄ | L10: Ｅ | M10: Ｆ | N10: Ｇ | O10: （Ｇ×1/2）Ｈ | P10: Ｉ | Q10: Ｊ
A11: 1 | L11: =MIN(J11:K11) -> 0 | T11: 介護支援専門員実務研修 | W11: 常勤
A12: 2 | L12: =MIN(J12:K12) -> 0 | T12: 介護支援専門員更新研修（実務経験者・１回目） | W12: 非常勤
A13: 3 | L13: =MIN(J13:K13) -> 0 | T13: 介護支援専門員更新研修 （実務経験者・２回目以降）
A14: 4 | L14: =MIN(J14:K14) -> 0 | T14: 介護支援専門員更新研修（実務未経験者）
A15: 5 | L15: =MIN(J15:K15) -> 0 | T15: 介護支援専門員再研修 | W15: 20000
A16: 6 | L16: =MIN(J16:K16) -> 0 | T16: 主任介護支援専門員研修
A17: 7 | L17: =MIN(J17:K17) -> 0 | T17: 主任介護支援専門員更新研修
A18: 8 | L18: =MIN(J18:K18) -> 0
A19: 9 | L19: =MIN(J19:K19) -> 0
A20: 10 | L20: =MIN(J20:K20) -> 0
A21: 11 | L21: =MIN(J21:K21) -> 0
A22: 12 | L22: =MIN(J22:K22) -> 0
A23: 13 | L23: =MIN(J23:K23) -> 0
A24: 14 | L24: =MIN(J24:K24) -> 0
A25: 15 | L25: =MIN(J25:K25) -> 0
A26: 合計額 | G26: =SUM(G11:G25) -> 0 | H26: =SUM(H11:H25) -> 0 | J26: =SUM(J11:J25) -> 0 | K26: =SUM(K11:K25) -> 0 | L26: =SUM(L11:L25) -> 0 | N26: =IF(M26="",0,MIN(L26:M26)) -> 0 | O26: =ROUNDDOWN(N26*1/2,-3) -> 0 | Q26: =MIN(O26:P26) -> 0
C30: ・・・このセルは自動計算セルとなる。
C31: ・・・このセルはプルダウンから選択するセルとなる。
A33: ※ 研修受講者数が15人以上の場合は適宜、行を追加して構いません。
A34: ※１ | B34: 補助対象研修に係る受講料を入力する。
A35: ※２ | B35: 研修受講者が訓練給付金制度の補助を受けている場合のみ入力する。
A36: ※３ | B36: 事業者が研修受講者へ受講料を支払った日。
A37: ※４ | B37: 受講料から受給する教育訓練給付金の額を差し引いた額のうち、事業者が負担した額を入力する。
A38: ※５ | B38: 交付要綱別表３に規定している額を入力する。

Sheet 別紙２
A1: 第４号様式の別紙２（第８関係）
D3: 報告日 | E3: =報告書!U6 -> 0
B5: 青森県知事 殿
C7: 証明書
B9: 下記の者に対して、受講料を支払ったことを証明します。
C12: 住所 | D12: =報告書!U8 -> 0
C13: 法人名 | D13: =報告書!U9 -> 0
C14: 代表者氏名 | D14: =報告書!U10 -> 0
A17: 研修 課程 | C17: 研修受講者 氏名 | D17: 受講料 （円） | E17: 事業者支払日 （年月日） | F17: 補助対象経費実支出額（円）
A18: =INDEX(別紙１!A11:A25,MATCH($C$18,別紙１!$D$11:$D$25,0),1) -> #N/A | B18: =INDEX(別紙１!$B$11:$B$25,MATCH($C$18,別紙１!$D$11:$D$25,0),1) -> #N/A | D18: =VLOOKUP($C$18,別紙１!$D$11:$K$25,4,FALSE) -> #N/A | E18: =VLOOKUP($C$18,別紙１!$D$11:$K$25,6,FALSE) -> #N/A | F18: =VLOOKUP($C$18,別紙１!$D$11:$K$25,7,FALSE) -> #N/A
B21: ＜研修受講者記入欄＞
B24: 上記のとおり、受講料を受領しました。
C25: 受領日 | D25: 令和 年 月 日
C27: 研修受講者署名
D28: ※ 自筆で記入してもらってください。
B32: （添付書類等については、裏面を参照してください。）
A33: ※ 研修受講者ごとに印刷し、署名（自筆で記入）してもらってください。
A35: 〔添付書類〕
A36: ① 研修受講者が立て替え、後日補助対象者が研修受講者へ支払っている場合
A37: （１）振込明細書や領収書など研修受講者が研修実施機関へ受講料を支払った証明となる資料写し
A38: （２）振込明細書など補助対象者から研修受講者へ当該研修受講料を支払った証明となる資料写し
A39: ② 補助対象者が支払っている場合
A40: （１）振込明細書や領収書など研修受講者が研修実施機関へ受講料を支払った証明となる資料写し
B42: ・・・このセルは自動計算セルとなる。
B43: ・・・このセルはプルダウンから選択するセルとなる。
